Workbook
Name \0: #REF!
Name \Y: #REF!
Name _1Sin_nombre: #REF!
Name _2Sin_nombre: #REF!
Name _ALT1: #REF!
Name _ALT2: #REF!
Name _apu3: #REF!
Name _apu31: #REF!
Name _apu5: #REF!
Name _EXT1: #REF!
Name _EXT2: #REF!
Name _FAM1: #REF!
Name _FAM2: #REF!
Name _FAM3: #REF!
Name _INI1: #REF!
Name _INS2: #REF!
Name _INS3: #REF!
Name _MAY1: #REF!
Name _MAY2: #REF!
Name _MAY3: #REF!
Name _MED1: #REF!
Name _MED2: #REF!
Name _MEN1: #REF!
Name _MEN2: #REF!
Name _MEN3: #REF!
Name _Order1: 255
Name _Order2: 255
Name a: #REF!
Name A_IMPRESIÓN_IM: #REF!
Name AAAA: #REF!
Name actividad: #REF!
Name Adm: #REF!
Name AFWERGTER: #REF!
Name AGFREGH: #REF!
Name AHER: #REF!
Name aiu: #REF!
Name ALSA: #REF!
Name aLSACIA: #REF!
Name ALSACIARESERVADO: #REF!
Name ALT0: #REF!
Name ALTIN: #REF!
Name ALTINB: #REF!
Name AMAT: #REF!
Name ANEXO_4: #REF!
Name APER: #REF!
Name ASDAFSS: #REF!
Name ASDAS: #REF!
Name ASFWSRHG: #REF!
Name ATenerEnCuenta: #REF!
Name ATRS: #REF!
Name Base_datos_IM: #REF!
Name BDFBHTEH: #REF!
Name BDFGBR: #REF!
Name BDVGSD: #REF!
Name BFDBHTR: #REF!
Name BFGGBNG: #REF!
Name BGIOHL: #REF!
Name BHTBDERGVSD: #REF!
Name BID: #REF!
Name BIDE: #REF!

Sheet FP
B6: FACTOR PRESTACIONAL AÑO 2026
B8: FACTOR DE PRESTACIONES PAGO POR JORNALES
B9: 2026
B11: SE TOMAN 365 DÍAS PARA SU DEDUCCION
B13: ITEM | C13: =$S$31 -> 58363.5 | D13: 45000 | E13: 50000 | Q13: 55000 | R13: 60000 | S13: 65000 | T13: 70000 | U13: 80000
B14: Sueldo anual | C14: =C13*365 -> 21302678 | D14: =D13*365 -> 16425000 | E14: =E13*365 -> 18250000 | Q14: =Q13*365 -> 20075000 | R14: =R13*365 -> 21900000 | S14: =S13*365 -> 23725000 | T14: =T13*365 -> 25550000 | U14: =U13*365 -> 29200000
B15: Subsidio de Transporte | C15: =IF(C13>$S$34,0,$S$32*365) -> 3030655.8 | D15: =IF(D13>$S$34,0,$S$32*365) -> 3030655.8 | E15: =IF(E13>$S$34,0,$S$32*365) -> 3030655.8 | Q15: =IF(Q13>$S$34,0,$S$32*365) -> 3030655.8 | R15: =IF(R13>$S$34,0,$S$32*365) -> 3030655.8 | S15: =IF(S13>$S$34,0,$S$32*365) -> 3030655.8 | T15: =IF(T13>$S$34,0,$S$32*365) -> 3030655.8 | U15: =IF(U13>$S$34,0,$S$32*365) -> 3030655.8
B16: Cesantía (1 mes) | C16: =36*((C14+C15)/365) -> 2400000 | D16: =36*((D14+D15)/365) -> 1918914 | E16: =36*((E14+E15)/365) -> 2098914 | Q16: =36*((Q14+Q15)/365) -> 2278914 | R16: =36*((R14+R15)/365) -> 2458914 | S16: =36*((S14+S15)/365) -> 2638914 | T16: =36*((T14+T15)/365) -> 2818914 | U16: =36*((U14+U15)/365) -> 3178914
B17: Intereses de Cesantía | C17: =0.12*C16 -> 288000 | D17: =0.12*D16 -> 230269.68 | E17: =0.12*E16 -> 251869.68 | Q17: =0.12*Q16 -> 273469.68 | R17: =0.12*R16 -> 295069.68 | S17: =0.12*S16 -> 316669.68 | T17: =0.12*T16 -> 338269.68 | U17: =0.12*U16 -> 381469.68
B18: Prima de Servicio (1mes) | C18: =30*((C14+C15)/365) -> 2000000 | D18: =30*((D14+D15)/365) -> 1599095 | E18: =30*((E14+E15)/365) -> 1749095 | Q18: =30*((Q14+Q15)/365) -> 1899095 | R18: =30*((R14+R15)/365) -> 2049095 | S18: =30*((S14+S15)/365) -> 2199095 | T18: =30*((T14+T15)/365) -> 2349095 | U18: =30*((U14+U15)/365) -> 2649095
B19: Vacaciones (1/2 mes) | C19: =15*C14/365 -> 875452.5 | D19: =15*D14/365 -> 675000 | E19: =15*E14/365 -> 750000 | Q19: =15*Q14/365 -> 825000 | R19: =15*R14/365 -> 900000 | S19: =15*S14/365 -> 975000 | T19: =15*T14/365 -> 1050000 | U19: =15*U14/365 -> 1200000
B20: Dotación anual * | C20: =$F$35 -> 831639 | D20: =$F$35 -> 831639 | E20: =$F$35 -> 831639 | Q20: =$F$35 -> 831639 | R20: =$F$35 -> 831639 | S20: =$F$35 -> 831639 | T20: =$F$35 -> 831639 | U20: =$F$35 -> 831639
B21: Elementos bio seguridad | C21: =135000*12 -> 1620000 | D21: =135000*12 -> 1620000 | E21: =135000*12 -> 1620000 | Q21: =135000*12 -> 1620000 | R21: =135000*12 -> 1620000 | S21: =135000*12 -> 1620000 | T21: =135000*12 -> 1620000 | U21: =135000*12 -> 1620000
B22: Seguro Social Patronal ** | C22: =IF(C13<10*$S$31,(0.2746-0.085)*C14,0.2746*C14) -> 4038987.7 | D22: =IF(D13<10*$S$31,(0.2746-0.085)*D14,0.2746*D14) -> 3114180 | E22: =IF(E13<10*$S$31,(0.2746-0.085)*E14,0.2746*E14) -> 3460200 | Q22: =IF(Q13<10*$S$31,(0.2746-0.085)*Q14,0.2746*Q14) -> 3806220 | R22: =IF(R13<10*$S$31,(0.2746-0.085)*R14,0.2746*R14) -> 4152240 | S22: =IF(S13<10*$S$31,(0.2746-0.085)*S14,0.2746*S14) -> 4498260 | T22: =IF(T13<10*$S$31,(0.2746-0.085)*T14,0.2746*T14) -> 4844280 | U22: =IF(U13<10*$S$31,(0.2746-0.085)*U14,0.2746*U14) -> 5536320
B23: Sena *** | C23: =IF(C13<10*$S$31,0,0.02*C14) -> 0 | D23: =IF(D13<10*$S$31,0,0.02*D14) -> 0 | E23: =IF(E13<10*$S$31,0,0.02*E14) -> 0 | Q23: =IF(Q13<10*$S$31,0,0.02*Q14) -> 0 | R23: =IF(R13<10*$S$31,0,0.02*R14) -> 0 | S23: =IF(S13<10*$S$31,0,0.02*S14) -> 0 | T23: =IF(T13<10*$S$31,0,0.02*T14) -> 0 | U23: =IF(U13<10*$S$31,0,0.02*U14) -> 0
B24: Bienestar Familiar *** | C24: =IF(C13<10*$S$31,0,0.03*C14) -> 0 | D24: =IF(D13<10*$S$31,0,0.03*D14) -> 0 | E24: =IF(E13<10*$S$31,0,0.03*E14) -> 0 | Q24: =IF(Q13<10*$S$31,0,0.03*Q14) -> 0 | R24: =IF(R13<10*$S$31,0,0.03*R14) -> 0 | S24: =IF(S13<10*$S$31,0,0.03*S14) -> 0 | T24: =IF(T13<10*$S$31,0,0.03*T14) -> 0 | U24: =IF(U13<10*$S$31,0,0.03*U14) -> 0
B25: Caja de compensación Familiar | C25: =0.04*(C14) -> 852107.1 | D25: =0.04*(D14) -> 657000 | E25: =0.04*(E14) -> 730000 | Q25: =0.04*(Q14) -> 803000 | R25: =0.04*(R14) -> 876000 | S25: =0.04*(S14) -> 949000 | T25: =0.04*(T14) -> 1022000 | U25: =0.04*(U14) -> 1168000
B26: Aporte Adicional Sena - FIC | C26: =$S$33/40*12 -> 525271.5 | D26: =$S$33/40*12 -> 525271.5 | E26: =$S$33/40*12 -> 525271.5 | Q26: =$S$33/40*12 -> 525271.5 | R26: =$S$33/40*12 -> 525271.5 | S26: =$S$33/40*12 -> 525271.5 | T26: =$S$33/40*12 -> 525271.5 | U26: =$S$33/40*12 -> 525271.5
B27: TOTAL A CARGO DEL PATRONO | C27: =SUM(C14:C26) -> 37764791 | D27: =SUM(D14:D26) -> 30627025 | E27: =SUM(E14:E26) -> 33297645 | Q27: =SUM(Q14:Q26) -> 35968265 | R27: =SUM(R14:R26) -> 38638885 | S27: =SUM(S14:S26) -> 41309505 | T27: =SUM(T14:T26) -> 43980125 | U27: =SUM(U14:U26) -> 49321365
B28: TOTAL REAL POR MES TRABAJADO | C28: =C27/$I$37 -> 128016.24 | D28: =D27/$I$37 -> 103820.42 | E28: =E27/$I$37 -> 112873.37 | Q28: =Q27/$I$37 -> 121926.32 | R28: =R27/$I$37 -> 130979.27 | S28: =S27/$I$37 -> 140032.22 | T28: =T27/$I$37 -> 149085.17 | U28: =U27/$I$37 -> 167191.07
B29: FACTOR SOBRE SUELDO MENSUAL | C29: =C28/C13 -> 2.1934298 | D29: =D28/D13 -> 2.3071205 | E29: =E28/E13 -> 2.2574675 | Q29: =Q28/Q13 -> 2.2168422 | R29: =R28/R13 -> 2.1829879 | S29: =S28/S13 -> 2.1543419 | T29: =T28/T13 -> 2.1297881 | U29: =U28/U13 -> 2.0898883
B31: VALOR DOTACION (3 VECES AL AÑO) | Q31: Jornal mínimo 2026 | S31: =S33/30 -> 58363.5
B32: CAMISA MANGA LARGA + JEAN ($47.423 + $49.900) | F32: =3*(47423+49900) -> 291969 | Q32: Aux. transporte diario 2026 | S32: =249095/30 -> 8303.1667
B33: BOTAS EN PVC NEGRA PUNTERA ACERO TRACK $109.990 | F33: =3*109990 -> 329970 | Q33: Salario mínimo 2026 | S33: 1750905
B34: CASCO DE SEGURIDAD CON BARBUQUEJO $ 69.900 | F34: =3*69900 -> 209700 | Q34: 2 jornales mínimos | S34: =2*S31 -> 116727
B35: TOTAL | F35: =SUM(F32:F34) -> 831639
B37: Días reales trabajados = Días del año - Domingos - Festivos | I37: =365-18-52 -> 295
B39: * La dotación es requisito legal hasta los 2 salarios mínimos. Sin embargo, se considera para todo el personal administrativo.
B40: ** Salud + Pensión + ARL (exonerado salud para menos de 10 salarios mínimos)
B41: *** Exonerado para menos de 10 salarios mínimos
B44: Días al mes | C44: 30
B45: Dominicales | C45: =52/12 -> 4.3333333 | E45: 4,33 domicales
B46: Dias Festivos | C46: =18/I37 -> 0.061016949 | E46: 18 DÍAS FESTIVOS EN EL AÑO 2025
B47: Dias reales Laborados | C47: =+C44-C45-C46 -> 25.60565
B48: VALOR REAL DEL SALARIO 2026- AFECTACION PRESTACIONAL Y PARAFISCAL
B51: SALARIO | E51: 1 MINIMO | F51: % SOBRE EL SALARIO | G51: 1.2 MINIMOS | H51: % SOBRE EL SALARIO | I51: 1.5 MINIMOS | J51: % SOBRE EL SALARIO | K51: 1.8 MINIMOS | L51: % SOBRE EL SALARIO | M51: 2 MINIMOS | N51: % SOBRE EL SALARIO | O51: 2.5 MINIMOS | P51: % SOBRE EL SALARIO | Q51: #VALUE!
B52: MENSUAL | E52: =+S33 -> 1750905 | F52: 1 | G52: =+E52*1.2 -> 2101086 | H52: 1 | I52: =+E52*1.5 -> 2626357.5 | J52: 1 | K52: =+E52*1.8 -> 3151629 | L52: 1 | M52: =+E52*2 -> 3501810 | N52: 1 | O52: =+E52*2.5 -> 4377262.5 | P52: 1
B53: SUBSIDIO DE TRANSPORTE | E53: 249095 | F53: =+E53/E52 -> 0.14226643 | G53: =+E53 -> 249095 | H53: =+G53/G52 -> 0.11855536 | I53: =+E53 -> 249095 | J53: =+I53/I52 -> 0.094844285 | K53: =+I53 -> 249095 | L53: =+K53/K52 -> 0.079036904 | M53: =+K53 -> 249095 | N53: =+M53/M52 -> 0.071133214 | O53: 0 | P53: =+O53/O52 -> 0
B54: SALARIO MENSUAL +SUBSIDIO DE TRANSPORTE | E54: =+E53+E52 -> 2000000 | F54: =+E54/E52 -> 1.1422664 | G54: =+G53+G52 -> 2350181 | H54: =+G54/G52 -> 1.1185554 | I54: =+I53+I52 -> 2875452.5 | J54: =+I54/I52 -> 1.0948443 | K54: =+K53+K52 -> 3400724 | L54: =+K54/K52 -> 1.0790369 | M54: =+M53+M52 -> 3750905 | N54: =+M54/M52 -> 1.0711332 | O54: =+O53+O52 -> 4377262.5 | P54: =+O54/O52 -> 1
B55: PRESTACIONES SOCIALES
...

Sheet CUADRILLAS
A2: CALCULO DE JORNALES Y PRESTACIONES SOCIALES
C3: VALORES DEL JORNAL Y HORA HOMBRE
C5: CALCULADOS DEL FACTOR PRESTACIONAL
A6: N° | B6: AÑO 2026 | E6: JORNAL TOTAL CON PRESTACIONES
A7: 1 | B7: CUADRILLA ALBAÑILERÍA (1OF+1AY) | E7: =+E8+E9 -> 278597.98
A8: 2 | B8: =FP!B90 -> Ayudante AA | C8: =+FP!E90 -> 78107.762 | D8: =ROUNDUP(C8/8,0) -> 9764 | E8: =FP!F90 -> 113384.82
A9: 3 | B9: =FP!B91 -> Oficial AA | C9: =+FP!E91 -> 112297.58 | D9: =ROUNDUP(C9/8,0) -> 14038 | E9: =FP!F91 -> 165213.16
B10: Prestaciones Ayudante | C10: =FP!I90-1 -> 0.65816643
B11: Prestaciones Oficial | C11: =FP!I91-1 -> 0.61074429
A12: 4 | B12: CUADILLA TOPOGRAFIA (1 TOP+ 1 CAD) | E12: =+E13+E14 -> 351157.66
A13: 5 | B13: =FP!B94 -> Cadenero | C13: =FP!E94 -> 91783.689 | D13: =ROUNDUP(C13/8,0) -> 11473 | E13: =FP!F94 -> 134116.15
A14: 6 | B14: =FP!B93 -> Topográfo | C14: =FP!E93 -> 146487.4 | D14: =ROUNDUP(C14/8,0) -> 18311 | E14: =FP!F93 -> 217041.51
B15: Prestaciones Cadenero | C15: =FP!I94-1 -> 0.63445536
B16: Prestaciones Topógrafo | C16: =FP!I93-1 -> 0.58703321
A17: 7 | B17: CUADRILLA HIDROSANITARIOS (1OF+1AY) | E17: =+E18+E19 -> 278597.98
A18: 8 | B18: =FP!B96 -> Ayudante Red Hidronsanitaria | C18: =FP!E96 -> 78107.762 | D18: =ROUNDUP(C18/8,0) -> 9764 | E18: =FP!F96 -> 113384.82
A19: 9 | B19: =FP!B97 -> Oficial Red Hidrosanitaria | C19: =FP!E97 -> 112297.58 | D19: =ROUNDUP(C19/8,0) -> 14038 | E19: =FP!F97 -> 165213.16
B20: =+CONCATENATE($N$23," ",B18) -> Ayudante Red Hidronsanitaria | C20: =FP!I96-1 -> 0.65816643
B21: =+CONCATENATE($N$23," ",B19) -> Oficial Red Hidrosanitaria | C21: =FP!I97-1 -> 0.61074429
A22: 10 | B22: CUADRILLA ELÉCTRICA (1OF+1AY) | E22: =+E23+E24 -> 299329.32
A23: 11 | B23: =FP!B99 -> Ayudante Red Eléctrica | C23: =FP!E99 -> 91783.689 | D23: =ROUNDUP(C23/8,0) -> 11473 | E23: =FP!F99 -> 134116.15
A24: 12 | B24: =FP!B100 -> Oficial Red Eléctrica | C24: =FP!E100 -> 112297.58 | D24: =ROUNDUP(C24/8,0) -> 14038 | E24: =FP!F100 -> 165213.16
B25: =+CONCATENATE($N$23," ",B23) -> Ayudante Red Eléctrica | C25: =FP!I99-1 -> 0.63445536
B26: =+CONCATENATE($N$23," ",B24) -> Oficial Red Eléctrica | C26: =FP!I100-1 -> 0.61074429
A27: 13 | B27: CUADRILLA CABLEADO ESTRUCTURADO (1OF+1AY) | E27: =+E28+E29 -> 330426.32
A28: 14 | B28: =FP!B102 -> Ayudante CE | C28: =FP!E102 -> 91783.689 | D28: =ROUNDUP(C28/8,0) -> 11473 | E28: =+FP!F102 -> 134116.15
A29: 15 | B29: =FP!B103 -> Oficial CE | C29: =FP!E103 -> 132811.47 | D29: =ROUNDUP(C29/8,0) -> 16602 | E29: =+FP!F103 -> 196310.17
B30: =+CONCATENATE($N$23," ",B28) -> Ayudante CE | C30: =FP!I102-1 -> 0.61074429
B31: =+CONCATENATE($N$23," ",B29) -> Oficial CE | C31: =FP!I103-1 -> 0.5949369
A32: 16 | B32: CUADRILLA EQUIPOS MECÁNICOS (1OF+1AY)
A33: 17 | B33: =FP!B105 -> Ayudante EM | C33: =FP!E105 -> 91783.689 | D33: =ROUNDUP(C33/8,0) -> 11473 | E33: =+FP!F105 -> 134116.15
A34: 18 | B34: =FP!B106 -> Oficial EM | C34: =+FP!E106 -> 132811.47 | D34: =ROUNDUP(C34/8,0) -> 16602 | E34: =+FP!F106 -> 196310.17
B35: =+CONCATENATE($N$23," ",B33) -> Ayudante EM | C35: =FP!I105-1 -> 0.63445536
B36: =+CONCATENATE($N$23," ",B34) -> Oficial EM | C36: =FP!I106-1 -> 0.5949369
A37: 19 | B37: CUADRILLA RCI (1OF+1AY) | E37: =+E38+E39 -> 330426.32
A38: 20 | B38: =FP!B108 -> Ayudante RCI | C38: =FP!E108 -> 91783.689 | D38: =ROUNDUP(C38/8,0) -> 11473 | E38: =FP!F108 -> 134116.15
A39: 21 | B39: =FP!B109 -> Oficial RCI | C39: =+FP!E109 -> 132811.47 | D39: =+FP!G109 -> 16601.434 | E39: =+FP!F109 -> 196310.17
B40: =+CONCATENATE($N$23," ",B38) -> Ayudante RCI | C40: =FP!I108-1 -> 0.63445536
B41: =+CONCATENATE($N$23," ",B39) -> Oficial RCI | C41: =FP!I109-1 -> 0.5949369
A42: 22 | B42: CUADRLLA EST MET (1OF+1AY) | E42: =+E43+E44 -> 361523.33
...
